BEGIN:VCALENDAR
VERSION:2.0
PRODID:-//eventon.com NONSGML v1.0//EN
CALSCALE:GREGORIAN
METHOD:PUBLISH
BEGIN:VEVENT
UID:69e9ef377d078
DTSTAMP:20260423T120647
DTSTART:20241215T140000Z
DTEND:20241215T160000Z
TZID:Europe/Budapest
LOCATION:
SUMMARY:LÁNGOS CSILLAG TÚRA 3.
DESCRIPTION:LÁNGOS CSILLAG TÚRA 3. (December 15.) A városi séták kedvelőinek\,  a XII. kerület izgalmas történetei iránt érdeklődőknek\,  kicsiknek és nagyoknak – ajánljuk a vasárnapi adventi gyertyagyújtás előtt a Farkasréti temetőtől induló helytörténeti sétánkat. Híres és kevésbé ismert sztorik\,  titkolt érdekességek\,  régi hegyvidéki karácsonyok emléke és közös séta a Városháza térre[..]\nhttps://helytortenetigyujtemeny.hu/events/langos-csillag-tura-3-2024/
URL:https://helytortenetigyujtemeny.hu/events/langos-csillag-tura-3-2024/
END:VEVENT
END:VCALENDAR