BEGIN:VCALENDAR
VERSION:2.0
PRODID:-//eventon.com NONSGML v1.0//EN
CALSCALE:GREGORIAN
METHOD:PUBLISH
BEGIN:VEVENT
UID:69eb80ad7ab8d
DTSTAMP:20260424T163941
DTSTART:20250613
DTEND:20260501
TZID:UTC
LOCATION:
SUMMARY:Svábhegyi Tündérkert - Jókai és a Hegyvidék
DESCRIPTION:Svábhegyi Tündérkert &#8211; Jókai és a Hegyvidék Helytörténeti kiállítás A Hegyvidéki Helytörténeti Gyűjtemény kiállításán megismerkedhetnek az idén 200 éve született Jókai Mór hegyvidéki\,  azon belül is svábhegyi életével a kezdetektől egészen az író 1904-ben bekövetkezett haláláig. Archív képek\,  valamint eredeti műtárgyak segítségével kerülhetnek közelebbi kapcsolatba Jókai és a Svábhegy különleges[..]\nhttps://helytortenetigyujtemeny.hu/events/svabhegyi-tunderkert-jokai-es-a-hegyvidek/
URL:https://helytortenetigyujtemeny.hu/events/svabhegyi-tunderkert-jokai-es-a-hegyvidek/
END:VEVENT
END:VCALENDAR